BEGIN:VCALENDAR
VERSION:2.0
PRODID:-//Fort Collins Experience - ECPv6.15.20//NONSGML v1.0//EN
CALSCALE:GREGORIAN
METHOD:PUBLISH
X-WR-CALNAME:Fort Collins Experience
X-ORIGINAL-URL:https://fortcollinsexperience.com
X-WR-CALDESC:Events for Fort Collins Experience
REFRESH-INTERVAL;VALUE=DURATION:PT1H
X-Robots-Tag:noindex
X-PUBLISHED-TTL:PT1H
BEGIN:VTIMEZONE
TZID:UTC
BEGIN:STANDARD
TZOFFSETFROM:+0000
TZOFFSETTO:+0000
TZNAME:UTC
DTSTART:20250101T000000
END:STANDARD
END:VTIMEZONE
BEGIN:VEVENT
DTSTART;TZID=UTC:20260418T090000
DTEND;TZID=UTC:20260418T110000
DTSTAMP:20260424T083914
CREATED:20260324T173341Z
LAST-MODIFIED:20260324T173341Z
UID:4526-1776502800-1776510000@fortcollinsexperience.com
SUMMARY:2026 Windsor Polar Plunge & 5K
DESCRIPTION:
URL:https://fortcollinsexperience.com/event/2026-windsor-polar-plunge-5k/
LOCATION:Windsor Lake Beach\, 100 N 5th St\, Windsor\, CO\, 80550\, United States
END:VEVENT
BEGIN:VEVENT
DTSTART;TZID=UTC:20260418T090000
DTEND;TZID=UTC:20260418T150000
DTSTAMP:20260424T083914
CREATED:20260324T182238Z
LAST-MODIFIED:20260324T182238Z
UID:4569-1776502800-1776524400@fortcollinsexperience.com
SUMMARY:Spring Craft Fair
DESCRIPTION:
URL:https://fortcollinsexperience.com/event/spring-craft-fair/
LOCATION:Berthoud Recreation Center\, 1000 N Berthoud Parkway\, Berthoud\, CO\, 80513\, United States
END:VEVENT
BEGIN:VEVENT
DTSTART;TZID=UTC:20260418T100000
DTEND;TZID=UTC:20260418T140000
DTSTAMP:20260424T083914
CREATED:20260324T172139Z
LAST-MODIFIED:20260324T172139Z
UID:4515-1776506400-1776520800@fortcollinsexperience.com
SUMMARY:Last Day of the Foothills Winter Farmers Market
DESCRIPTION:
URL:https://fortcollinsexperience.com/event/last-day-of-the-foothills-winter-farmers-market/
LOCATION:Foothills Shopping Center\, 215 E. Foothills Parkway\, Fort Collins\, CO\, 80525\, United States
END:VEVENT
BEGIN:VEVENT
DTSTART;TZID=UTC:20260418T100000
DTEND;TZID=UTC:20260418T140000
DTSTAMP:20260424T083914
CREATED:20260324T175932Z
LAST-MODIFIED:20260324T175932Z
UID:4549-1776506400-1776520800@fortcollinsexperience.com
SUMMARY:Book Fair & Book Swap
DESCRIPTION:
URL:https://fortcollinsexperience.com/event/book-fair-book-swap/
LOCATION:Avenida at Centerra 55+ Active Adult Community\, 3903 E 15th St\, Loveland\, CO\, 80538\, United States
END:VEVENT
BEGIN:VEVENT
DTSTART;TZID=UTC:20260418T110000
DTEND;TZID=UTC:20260418T170000
DTSTAMP:20260424T083914
CREATED:20260324T173512Z
LAST-MODIFIED:20260324T173512Z
UID:4529-1776510000-1776531600@fortcollinsexperience.com
SUMMARY:Earth Day Fort Collins
DESCRIPTION:
URL:https://fortcollinsexperience.com/event/earth-day-fort-collins-3/
LOCATION:Odell Brewing Company\, 800 E Lincoln Ave\, Fort Collins\, CO\, 80524\, United States
END:VEVENT
BEGIN:VEVENT
DTSTART;TZID=UTC:20260418T110000
DTEND;TZID=UTC:20260418T230000
DTSTAMP:20260424T083914
CREATED:20260324T173011Z
LAST-MODIFIED:20260324T173011Z
UID:4523-1776510000-1776553200@fortcollinsexperience.com
SUMMARY:10-Year Anniversary Party! for Music City Hot Chicken benefiting Launch
DESCRIPTION:
URL:https://fortcollinsexperience.com/event/10-year-anniversary-party-for-music-city-hot-chicken-benefiting-launch/
LOCATION:Music City Hot Chicken\, 1820 N College Ave\, Ste 180\, Fort Collins\, CO\, 80524\, United States
END:VEVENT
BEGIN:VEVENT
DTSTART;TZID=UTC:20260418T150000
DTEND;TZID=UTC:20260418T190000
DTSTAMP:20260424T083914
CREATED:20260324T180156Z
LAST-MODIFIED:20260324T180156Z
UID:4552-1776524400-1776538800@fortcollinsexperience.com
SUMMARY:Flannel Fest Pub Crawl
DESCRIPTION:
URL:https://fortcollinsexperience.com/event/flannel-fest-pub-crawl/
LOCATION:Downtown Loveland\, 323 N Railroad Ave\, Loveland\, CO\, 80537\, United States
END:VEVENT
END:VCALENDAR